BEGIN:VCALENDAR
VERSION:2.0
PRODID:icalendar-ruby
CALSCALE:GREGORIAN
METHOD:PUBLISH
BEGIN:VEVENT
DTSTAMP:20260420T214814Z
UID:68-559790@trinitysarnia.org
DTSTART:20260422T180000Z
DTEND:20260422T190000Z
CLASS:PUBLIC
CREATED:20260420T141704
DESCRIPTION:Wednesdays\, 2pm and 6:30pm\, April 8-May 13 led by Canon Vicar
 s Hodge. Come explore the Book of Acts in a six-week study as we look at h
 ow the risen Jesus\, through the power of the Holy Spirit\, formed a new c
 ommunity that crossed boundaries of culture\, language\, and status. Each 
 session includes a short teaching time and small-group discussion. All are
  welcome!
LAST-MODIFIED:20260420T141704
LOCATION:
SUMMARY:Acts Bible Study
URL;VALUE=URI:https://www.trinitysarnia.org/events/acts-bible-study/2026-04
 -22
ATTACH;FILENAME=Acts.png;FMTTYPE=image/png:https://dq5pwpg1q8ru0.cloudfront
 .net/2026/04/20/18/17/04/cf071b14-b0d4-4d9d-9304-7ec282154406/Acts.png
END:VEVENT
END:VCALENDAR
